BEGIN:VCALENDAR
VERSION:2.0
PRODID:-//Spordiklubi Kiirus - ECPv6.14.0//NONSGML v1.0//EN
CALSCALE:GREGORIAN
METHOD:PUBLISH
X-ORIGINAL-URL:https://kiirus.eu
X-WR-CALDESC:Events for Spordiklubi Kiirus
REFRESH-INTERVAL;VALUE=DURATION:PT1H
X-Robots-Tag:noindex
X-PUBLISHED-TTL:PT1H
BEGIN:VTIMEZONE
TZID:Europe/Tallinn
BEGIN:DAYLIGHT
TZOFFSETFROM:+0200
TZOFFSETTO:+0300
TZNAME:EEST
DTSTART:20170326T010000
END:DAYLIGHT
BEGIN:STANDARD
TZOFFSETFROM:+0300
TZOFFSETTO:+0200
TZNAME:EET
DTSTART:20171029T010000
END:STANDARD
BEGIN:DAYLIGHT
TZOFFSETFROM:+0200
TZOFFSETTO:+0300
TZNAME:EEST
DTSTART:20180325T010000
END:DAYLIGHT
BEGIN:STANDARD
TZOFFSETFROM:+0300
TZOFFSETTO:+0200
TZNAME:EET
DTSTART:20181028T010000
END:STANDARD
END:VTIMEZONE
BEGIN:VEVENT
DTSTART;TZID=Europe/Tallinn:20181115T150000
DTEND;TZID=Europe/Tallinn:20181115T170000
DTSTAMP:20260424T202717
CREATED:20190304T204649Z
LAST-MODIFIED:20190304T220114Z
UID:1330-1542294000-1542301200@kiirus.eu
SUMMARY:TÜ ASK võistlused U10 ja U12 vanuseklassidele
DESCRIPTION:Võistluste protokoll: \nhttps://sport.ut.ee/events/tu-ask-klubivoistlus-u10-u12/
URL:https://kiirus.eu/voistlus/tu-ask-voistlused-u10-ja-u12-vanuseklassidele/
LOCATION:Tartu Ülikooli Spordihoone\, Ujula 4\, Tartu\, Tartu\, Estonia
CATEGORIES:Võistlused
END:VEVENT
BEGIN:VEVENT
DTSTART;TZID=Europe/Tallinn:20180911T170000
DTEND;TZID=Europe/Tallinn:20180911T183000
DTSTAMP:20260424T202717
CREATED:20190304T205255Z
LAST-MODIFIED:20190304T220141Z
UID:1336-1536685200-1536690600@kiirus.eu
SUMMARY:Jõgeva pargijooksude Palamuse etapp
DESCRIPTION:Võistluse protokoll: \nhttps://www.vooremaa.ee/jogeva-pargijooksu-teine-etapp-toimus-palamusel/
URL:https://kiirus.eu/voistlus/jogeva-pargijooksude-palamuse-etapp/
LOCATION:Palamuse Gümnaasium\, Kooli 2\, Palamuse\, Estonia
CATEGORIES:Võistlused
END:VEVENT
BEGIN:VEVENT
DTSTART;TZID=Europe/Tallinn:20180902T110000
DTEND;TZID=Europe/Tallinn:20180902T150000
DTSTAMP:20260424T202717
CREATED:20190304T210216Z
LAST-MODIFIED:20190304T220217Z
UID:1344-1535886000-1535900400@kiirus.eu
SUMMARY:Fred Kudu lastevõistlus 2018
DESCRIPTION:Võistluse protokoll: \nhttp://www.ekjl.ee/content/editor/files/Tulemused/2018/tul_KuduLapsed20180902.pdf
URL:https://kiirus.eu/voistlus/fred-kudu-lastevoistlus-2018/
LOCATION:Tamme staadion\, Tamme pst 1\, Tartu\, Estonia
CATEGORIES:Võistlused
END:VEVENT
BEGIN:VEVENT
DTSTART;TZID=Europe/Tallinn:20180721T120000
DTEND;TZID=Europe/Tallinn:20180721T130000
DTSTAMP:20260424T202717
CREATED:20190304T210913Z
LAST-MODIFIED:20190304T220240Z
UID:1349-1532174400-1532178000@kiirus.eu
SUMMARY:Põltsamaa Lossijooks 2018
DESCRIPTION:Võistluse protokoll: \nhttps://www.facebook.com/poltsamaasport/photos/pcb.1794087680682706/1794087357349405/?type=3&theater
URL:https://kiirus.eu/voistlus/poltsamaa-lossijooks-2018/
LOCATION:Põltsamaa loss\, Lossi tn 1\, Põltsamaa\, Estonia
CATEGORIES:Võistlused
END:VEVENT
BEGIN:VEVENT
DTSTART;TZID=Europe/Tallinn:20180603T110000
DTEND;TZID=Europe/Tallinn:20180603T150000
DTSTAMP:20260424T202717
CREATED:20190304T211546Z
LAST-MODIFIED:20190304T220434Z
UID:1354-1528023600-1528038000@kiirus.eu
SUMMARY:TÜ ASK MV U10 ja U12
DESCRIPTION:Võistluse protokoll: \nhttp://ekjl.ee/content/editor/files/Tulemused/2018/tul_T%C3%9CASKlapsed20180603.pdf
URL:https://kiirus.eu/voistlus/tu-ask-mv-u10-ja-u12/
LOCATION:Tamme staadion\, Tamme pst 1\, Tartu\, Estonia
CATEGORIES:Võistlused
END:VEVENT
BEGIN:VEVENT
DTSTART;TZID=Europe/Tallinn:20180407T100000
DTEND;TZID=Europe/Tallinn:20180407T120000
DTSTAMP:20260424T202717
CREATED:20190304T214250Z
LAST-MODIFIED:20190304T220630Z
UID:1365-1523095200-1523102400@kiirus.eu
SUMMARY:Tartu Parkmetsa jooks (Mr. Britt lastejooksud)
DESCRIPTION:Ajavõtuta lastejooks ca 300 m distantsil.
URL:https://kiirus.eu/voistlus/tartu-parkmetsa-jooks-mr-britt-lastejooksud/
LOCATION:Sanatooriumi parkmets\, Riia tn 167\, Tartu\, Estonia
CATEGORIES:Võistlused
END:VEVENT
BEGIN:VEVENT
DTSTART;TZID=Europe/Tallinn:20180312T110000
DTEND;TZID=Europe/Tallinn:20180312T140000
DTSTAMP:20260424T202717
CREATED:20190304T211921Z
LAST-MODIFIED:20190304T220657Z
UID:1357-1520852400-1520863200@kiirus.eu
SUMMARY:Tartu jooksumaratoni lasteüritused
DESCRIPTION:Ajavõtuta minimaraton ca 2 km.
URL:https://kiirus.eu/voistlus/tartu-jooksumaratoni-lasteuritused/
LOCATION:Tähtvere spordipark\, Laulupeo pst 25\, Tartu\, Estonia
CATEGORIES:Võistlused
END:VEVENT
BEGIN:VEVENT
DTSTART;TZID=Europe/Tallinn:20171216T100000
DTEND;TZID=Europe/Tallinn:20171216T153000
DTSTAMP:20260424T202717
CREATED:20190304T214510Z
LAST-MODIFIED:20190304T220803Z
UID:1370-1513418400-1513438200@kiirus.eu
SUMMARY:TÜ ASK-i heategevuslik jõuluvõistlus
DESCRIPTION:Võistluse protokoll: \nhttp://ekjl.ee/content/editor/files/Tulemused/2017/tul_TartuJoulu20171216.pdf
URL:https://kiirus.eu/voistlus/tu-ask-i-heategevuslik-jouluvoistlus/
LOCATION:Tartu Ülikooli Spordihoone\, Ujula 4\, Tartu\, Tartu\, Estonia
CATEGORIES:Võistlused
END:VEVENT
BEGIN:VEVENT
DTSTART;TZID=Europe/Tallinn:20171109T150000
DTEND;TZID=Europe/Tallinn:20171109T170000
DTSTAMP:20260424T202717
CREATED:20190304T214723Z
LAST-MODIFIED:20190304T220331Z
UID:1373-1510239600-1510246800@kiirus.eu
SUMMARY:TÜ ASK lastevõistlus
DESCRIPTION:Võistluse protokoll: \nhttp://ekjl.ee/content/editor/files/Tulemused/2017/tul_TU%CC%88ASKeklass20171109.pdf
URL:https://kiirus.eu/voistlus/tu-ask-lastevoistlus/
LOCATION:Tartu Ülikooli Spordihoone\, Ujula 4\, Tartu\, Tartu\, Estonia
CATEGORIES:Võistlused
END:VEVENT
END:VCALENDAR